BEGIN:VCALENDAR
VERSION:2.0
PRODID:-//Forest Master - ECPv6.15.18//NONSGML v1.0//EN
CALSCALE:GREGORIAN
METHOD:PUBLISH
X-ORIGINAL-URL:https://forest-master.com
X-WR-CALDESC:Events for Forest Master
REFRESH-INTERVAL;VALUE=DURATION:PT1H
X-Robots-Tag:noindex
X-PUBLISHED-TTL:PT1H
BEGIN:VTIMEZONE
TZID:UTC
BEGIN:STANDARD
TZOFFSETFROM:+0000
TZOFFSETTO:+0000
TZNAME:UTC
DTSTART:20250101T000000
END:STANDARD
END:VTIMEZONE
BEGIN:VEVENT
DTSTART;VALUE=DATE:20260924
DTEND;VALUE=DATE:20260927
DTSTAMP:20260425T152155
CREATED:20240514T085032Z
LAST-MODIFIED:20260423T125909Z
UID:48736-1790208000-1790467199@forest-master.com
SUMMARY:APF Exhibition 2024
DESCRIPTION:Lastly\, as we wrap up the County Show Season\, it’s the turn of the APF Exhibition. \nThe ultimate showcase of forestry\, woodland\, arboriculture\, and firewood at the APF Exhibition 2026 – the UK’s premier trade show for these industries. With over 320 exhibitors and an anticipated 23\,000 visitors\, APF 2026 is set to be the largest and most diverse yet. \nClick here to find out more information and purchase your tickets
URL:https://forest-master.com/trade-show/apf-exhibition-2024/
LOCATION:Ragley Estate\, Alcester\, Warwickshire\, B49 5PS\, United Kingdom
ATTACH;FMTTYPE=image/jpeg:https://forest-master.com/wp-content/uploads/2024/05/4.jpg
END:VEVENT
END:VCALENDAR