BEGIN:VCALENDAR
VERSION:2.0
PRODID:-//Forest Master - ECPv6.15.18//NONSGML v1.0//EN
CALSCALE:GREGORIAN
METHOD:PUBLISH
X-ORIGINAL-URL:https://forest-master.com
X-WR-CALDESC:Events for Forest Master
REFRESH-INTERVAL;VALUE=DURATION:PT1H
X-Robots-Tag:noindex
X-PUBLISHED-TTL:PT1H
BEGIN:VTIMEZONE
TZID:UTC
BEGIN:STANDARD
TZOFFSETFROM:+0000
TZOFFSETTO:+0000
TZNAME:UTC
DTSTART:20250101T000000
END:STANDARD
END:VTIMEZONE
BEGIN:VEVENT
DTSTART;VALUE=DATE:20260720
DTEND;VALUE=DATE:20260724
DTSTAMP:20260425T134252
CREATED:20240420T083733Z
LAST-MODIFIED:20260423T125744Z
UID:48730-1784505600-1784851199@forest-master.com
SUMMARY:Royal Welsh Show 2025
DESCRIPTION:We’re back at the Royal Welsh Showground in Powys for the Royal Welsh Show 2026. \nAn action-packed four days will see attractions such as the RAF Falcons Parachute Team\, who will be providing their distinctive demonstration of freefall and canopy skills and The Regimental Band of the Royal Welsh will also be there to deliver their versatility of style and repertoire both on the concert platform and on parade as a marching band. You can also explore the wonders of forestry\, horticulture\, and crafts\, or indulge in countryside sports and shopping. \nClick here to find out more information and purchase your tickets
URL:https://forest-master.com/trade-show/royal-welsh-show-2024/
LOCATION:Royal Welsh Showground\, Llanelwedd\, LD2 3SY\, United Kingdom
ATTACH;FMTTYPE=image/jpeg:https://forest-master.com/wp-content/uploads/2024/05/3.jpg
END:VEVENT
END:VCALENDAR